BEGIN:VCALENDAR
VERSION:2.0
PRODID:-//wp-events-plugin.com//7.2.3.1//EN
TZID:Europe/Madrid
X-WR-TIMEZONE:Europe/Madrid
BEGIN:VEVENT
UID:816@thisistorrevieja.com
DTSTART;TZID=Europe/Madrid;VALUE=DATE:20260825
DTEND;TZID=Europe/Madrid;VALUE=DATE:20260826
DTSTAMP:20230518T080745Z
URL:https://thisistorrevieja.com/events/anniversary-of-the-bombing-of-torr
 evieja-2026-08-25/
SUMMARY:Anniversary of the Bombing of Torrevieja
DESCRIPTION:On 25 August 1938\, there was a major bombing of Torrevieja\,
  when Italian fascist aviation “Savoia”\, at the command of the revolt
 ed Francoist army\, attacked Torrevieja\, in a bombing raid that caused 
 19 deaths and dozens of injuries\, the vast majority of them civilians.\n\
 nYou can read more about the bombing of Torrevieja here.
ATTACH;FMTTYPE=image/jpeg:https://thisistorrevieja.com/wp-content/uploads/
 2022/08/bombing-of-torrevieja.jpg
CATEGORIES:Commemorative Days
END:VEVENT
BEGIN:VTIMEZONE
TZID:Europe/Madrid
X-LIC-LOCATION:Europe/Madrid
BEGIN:DAYLIGHT
DTSTART:20260329T030000
TZOFFSETFROM:+0100
TZOFFSETTO:+0200
TZNAME:CEST
END:DAYLIGHT
END:VTIMEZONE
END:VCALENDAR